BEGIN:VCALENDAR
VERSION:2.0
PRODID:-//Cowlitz and Clark County Child Advocates - ECPv6.15.20//NONSGML v1.0//EN
CALSCALE:GREGORIAN
METHOD:PUBLISH
X-ORIGINAL-URL:https://childadvocatescc.org
X-WR-CALDESC:Events for Cowlitz and Clark County Child Advocates
REFRESH-INTERVAL;VALUE=DURATION:PT1H
X-Robots-Tag:noindex
X-PUBLISHED-TTL:PT1H
BEGIN:VTIMEZONE
TZID:America/Los_Angeles
BEGIN:DAYLIGHT
TZOFFSETFROM:-0800
TZOFFSETTO:-0700
TZNAME:PDT
DTSTART:20250309T100000
END:DAYLIGHT
BEGIN:STANDARD
TZOFFSETFROM:-0700
TZOFFSETTO:-0800
TZNAME:PST
DTSTART:20251102T090000
END:STANDARD
BEGIN:DAYLIGHT
TZOFFSETFROM:-0800
TZOFFSETTO:-0700
TZNAME:PDT
DTSTART:20260308T100000
END:DAYLIGHT
BEGIN:STANDARD
TZOFFSETFROM:-0700
TZOFFSETTO:-0800
TZNAME:PST
DTSTART:20261101T090000
END:STANDARD
BEGIN:DAYLIGHT
TZOFFSETFROM:-0800
TZOFFSETTO:-0700
TZNAME:PDT
DTSTART:20270314T100000
END:DAYLIGHT
BEGIN:STANDARD
TZOFFSETFROM:-0700
TZOFFSETTO:-0800
TZNAME:PST
DTSTART:20271107T090000
END:STANDARD
END:VTIMEZONE
BEGIN:VEVENT
DTSTART;TZID=America/Los_Angeles:20260425T130000
DTEND;TZID=America/Los_Angeles:20260425T160000
DTSTAMP:20260422T200556
CREATED:20260304T184041Z
LAST-MODIFIED:20260408T153224Z
UID:20141-1777122000-1777132800@childadvocatescc.org
SUMMARY:Spring Volunteer Appreciation Event
DESCRIPTION:We’re excited to celebrate YOU at our upcoming Volunteer Appreciation Event on April 25th!
URL:https://childadvocatescc.org/calendar/spring-volunteer-appreciation-event/
CATEGORIES:Celebration
ATTACH;FMTTYPE=image/png:https://childadvocatescc.org/wp-content/uploads/2026/03/Screenshot-2026-04-08-083145.png
END:VEVENT
BEGIN:VEVENT
DTSTART;TZID=America/Los_Angeles:20260428T113000
DTEND;TZID=America/Los_Angeles:20260428T133000
DTSTAMP:20260422T200556
CREATED:20260408T153718Z
LAST-MODIFIED:20260408T153718Z
UID:20200-1777375800-1777383000@childadvocatescc.org
SUMMARY:Trauma Informed Care: Being an Advocate for Youth Webinar
DESCRIPTION:This webinar provides guidance on working with the team members\, helping others understand the child and utilize trauma informed care\, considering treatment modality basics and when to question treatment and caring for your own needs. Training has been developed by the National Child Traumatic Stress Network (NCTSN) and is facilitated by Zia Freeman\, MA\, LMHC Community Educator with Coordinated Care. \nPre-registration is required. \nTuesday 04/28\n11:30am-1:30pm
URL:https://childadvocatescc.org/calendar/trauma-informed-care-being-an-advocate-for-youth-webinar/
CATEGORIES:Professional Development
ATTACH;FMTTYPE=image/webp:https://childadvocatescc.org/wp-content/uploads/2026/04/th.webp
END:VEVENT
END:VCALENDAR