BEGIN:VCALENDAR
VERSION:2.0
PRODID:-//Cowlitz and Clark County Child Advocates - ECPv6.15.20//NONSGML v1.0//EN
CALSCALE:GREGORIAN
METHOD:PUBLISH
X-WR-CALNAME:Cowlitz and Clark County Child Advocates
X-ORIGINAL-URL:https://childadvocatescc.org
X-WR-CALDESC:Events for Cowlitz and Clark County Child Advocates
REFRESH-INTERVAL;VALUE=DURATION:PT1H
X-Robots-Tag:noindex
X-PUBLISHED-TTL:PT1H
BEGIN:VTIMEZONE
TZID:America/Los_Angeles
BEGIN:DAYLIGHT
TZOFFSETFROM:-0800
TZOFFSETTO:-0700
TZNAME:PDT
DTSTART:20240310T100000
END:DAYLIGHT
BEGIN:STANDARD
TZOFFSETFROM:-0700
TZOFFSETTO:-0800
TZNAME:PST
DTSTART:20241103T090000
END:STANDARD
BEGIN:DAYLIGHT
TZOFFSETFROM:-0800
TZOFFSETTO:-0700
TZNAME:PDT
DTSTART:20250309T100000
END:DAYLIGHT
BEGIN:STANDARD
TZOFFSETFROM:-0700
TZOFFSETTO:-0800
TZNAME:PST
DTSTART:20251102T090000
END:STANDARD
BEGIN:DAYLIGHT
TZOFFSETFROM:-0800
TZOFFSETTO:-0700
TZNAME:PDT
DTSTART:20260308T100000
END:DAYLIGHT
BEGIN:STANDARD
TZOFFSETFROM:-0700
TZOFFSETTO:-0800
TZNAME:PST
DTSTART:20261101T090000
END:STANDARD
BEGIN:DAYLIGHT
TZOFFSETFROM:-0800
TZOFFSETTO:-0700
TZNAME:PDT
DTSTART:20270314T100000
END:DAYLIGHT
BEGIN:STANDARD
TZOFFSETFROM:-0700
TZOFFSETTO:-0800
TZNAME:PST
DTSTART:20271107T090000
END:STANDARD
END:VTIMEZONE
BEGIN:VEVENT
DTSTART;TZID=America/Los_Angeles:20260408T140000
DTEND;TZID=America/Los_Angeles:20260408T170000
DTSTAMP:20260422T213741
CREATED:20260408T155004Z
LAST-MODIFIED:20260408T155012Z
UID:20206-1775656800-1775667600@childadvocatescc.org
SUMMARY:Office Closed for CCCA Team Meeting
DESCRIPTION:The CCCA office is closed for our CCCA all staff team meeting.
URL:https://childadvocatescc.org/calendar/office-closed-for-ccca-team-meeting/
CATEGORIES:Office Closed
ATTACH;FMTTYPE=image/png:https://childadvocatescc.org/wp-content/uploads/2026/04/Screenshot-2026-04-08-084841.png
END:VEVENT
BEGIN:VEVENT
DTSTART;VALUE=DATE:20260216
DTEND;VALUE=DATE:20260217
DTSTAMP:20260422T213741
CREATED:20260113T094827Z
LAST-MODIFIED:20260113T094827Z
UID:20081-1771200000-1771286399@childadvocatescc.org
SUMMARY:Office Closed
DESCRIPTION:
URL:https://childadvocatescc.org/calendar/office-closed-4/
CATEGORIES:Office Closed
END:VEVENT
BEGIN:VEVENT
DTSTART;VALUE=DATE:20260119
DTEND;VALUE=DATE:20260120
DTSTAMP:20260422T213741
CREATED:20260107T185052Z
LAST-MODIFIED:20260107T185052Z
UID:20069-1768780800-1768867199@childadvocatescc.org
SUMMARY:Office Closed
DESCRIPTION:
URL:https://childadvocatescc.org/calendar/office-closed-3/
CATEGORIES:Office Closed
END:VEVENT
BEGIN:VEVENT
DTSTART;TZID=America/Los_Angeles:20260114T173000
DTEND;TZID=America/Los_Angeles:20260114T193000
DTSTAMP:20260422T213741
CREATED:20260106T223302Z
LAST-MODIFIED:20260106T223910Z
UID:20044-1768411800-1768419000@childadvocatescc.org
SUMMARY:CCCA Team New Year Dinner Celebration
DESCRIPTION:Cheer to a New year and more memories – Thank you Team!
URL:https://childadvocatescc.org/calendar/ccca-team-strategic-planning/
CATEGORIES:Office Closed,Party
ATTACH;FMTTYPE=image/png:https://childadvocatescc.org/wp-content/uploads/2026/01/Screenshot-2026-01-06-143702.png
END:VEVENT
BEGIN:VEVENT
DTSTART;TZID=America/Los_Angeles:20260114T140000
DTEND;TZID=America/Los_Angeles:20260114T170000
DTSTAMP:20260422T213741
CREATED:20260106T224021Z
LAST-MODIFIED:20260106T224021Z
UID:20051-1768399200-1768410000@childadvocatescc.org
SUMMARY:CCCA 2026 Strategic Planning Meeting
DESCRIPTION:
URL:https://childadvocatescc.org/calendar/ccca-2026-strategic-planning-meeting/
CATEGORIES:Office Closed,Professional Development
ATTACH;FMTTYPE=image/png:https://childadvocatescc.org/wp-content/uploads/2026/01/Screenshot-2026-01-06-143231.png
END:VEVENT
BEGIN:VEVENT
DTSTART;VALUE=DATE:20260101
DTEND;VALUE=DATE:20260102
DTSTAMP:20260422T213741
CREATED:20251120T001504Z
LAST-MODIFIED:20251120T001504Z
UID:20001-1767225600-1767311999@childadvocatescc.org
SUMMARY:Office Closed
DESCRIPTION:Happy New Year\, #2026.
URL:https://childadvocatescc.org/calendar/office-closed-2/
CATEGORIES:Office Closed
ATTACH;FMTTYPE=image/png:https://childadvocatescc.org/wp-content/uploads/2025/11/Screenshot-2025-11-19-161416.png
END:VEVENT
BEGIN:VEVENT
DTSTART;VALUE=DATE:20251225
DTEND;VALUE=DATE:20251226
DTSTAMP:20260422T213741
CREATED:20251120T001019Z
LAST-MODIFIED:20251120T001033Z
UID:19998-1766620800-1766707199@childadvocatescc.org
SUMMARY:Office Closed
DESCRIPTION:
URL:https://childadvocatescc.org/calendar/office-closed/
CATEGORIES:Office Closed
ATTACH;FMTTYPE=image/png:https://childadvocatescc.org/wp-content/uploads/2025/11/Screenshot-2025-11-19-160948.png
END:VEVENT
BEGIN:VEVENT
DTSTART;VALUE=DATE:20251127
DTEND;VALUE=DATE:20251129
DTSTAMP:20260422T213741
CREATED:20250629T211352Z
LAST-MODIFIED:20250629T211352Z
UID:19962-1764201600-1764374399@childadvocatescc.org
SUMMARY:CCCA Office Closure
DESCRIPTION:The CCCA office will be closed November 27 and November 28 for Thanksgiving 2025. We will resume business on Monday\, December 01\, 2025\, at 9:00am.
URL:https://childadvocatescc.org/calendar/ccca-office-closure-4/
CATEGORIES:Office Closed
ATTACH;FMTTYPE=image/png:https://childadvocatescc.org/wp-content/uploads/2025/06/Screenshot-2025-06-29-141230.png
END:VEVENT
BEGIN:VEVENT
DTSTART;VALUE=DATE:20251126
DTEND;VALUE=DATE:20251127
DTSTAMP:20260422T213741
CREATED:20251120T000443Z
LAST-MODIFIED:20251120T000522Z
UID:19994-1764115200-1764201599@childadvocatescc.org
SUMMARY:Office Closed - Thank you\, Team!
DESCRIPTION:Our CCCA Office will be closed for Staff Appreciation Day!
URL:https://childadvocatescc.org/calendar/19994/
CATEGORIES:Office Closed
ATTACH;FMTTYPE=image/png:https://childadvocatescc.org/wp-content/uploads/2025/11/Screenshot-2025-11-19-160406.png
END:VEVENT
BEGIN:VEVENT
DTSTART;VALUE=DATE:20251111
DTEND;VALUE=DATE:20251112
DTSTAMP:20260422T213741
CREATED:20250629T210640Z
LAST-MODIFIED:20250629T210640Z
UID:19959-1762819200-1762905599@childadvocatescc.org
SUMMARY:CCCA Office Closure
DESCRIPTION:The CCCA office will be closed on November 11\, 2025\, in observation of Veterans Day. We will resume business on November 12\, 2025\, at 9:00am.
URL:https://childadvocatescc.org/calendar/ccca-office-closure-3/
CATEGORIES:Office Closed
ATTACH;FMTTYPE=image/png:https://childadvocatescc.org/wp-content/uploads/2025/06/Screenshot-2025-06-29-140529.png
END:VEVENT
BEGIN:VEVENT
DTSTART;VALUE=DATE:20250901
DTEND;VALUE=DATE:20250902
DTSTAMP:20260422T213741
CREATED:20250629T210229Z
LAST-MODIFIED:20250629T210743Z
UID:19956-1756684800-1756771199@childadvocatescc.org
SUMMARY:CCCA Office Closure
DESCRIPTION:The CCCA office will be closed all day in observation of Labor Day. We will resume business hours on Tuesday\, September 02\, 2025\, at 9:00am.
URL:https://childadvocatescc.org/calendar/ccca-office-closure-2/
CATEGORIES:Office Closed
ATTACH;FMTTYPE=image/png:https://childadvocatescc.org/wp-content/uploads/2025/06/Screenshot-2025-06-29-140120.png
END:VEVENT
BEGIN:VEVENT
DTSTART;TZID=America/Los_Angeles:20250822T120000
DTEND;TZID=America/Los_Angeles:20250822T160000
DTSTAMP:20260422T213741
CREATED:20250629T202425Z
LAST-MODIFIED:20250629T202425Z
UID:19933-1755864000-1755878400@childadvocatescc.org
SUMMARY:Reunification Day - Cowlitz County
DESCRIPTION:CCCA office will close at 12:00pm to celebrate the success of families who have overcome crises and reunited.
URL:https://childadvocatescc.org/calendar/reunification-day-cowlitz-county/
CATEGORIES:Event,Family Fun,Office Closed
ATTACH;FMTTYPE=image/png:https://childadvocatescc.org/wp-content/uploads/2025/06/Screenshot-2025-06-29-132002.png
END:VEVENT
BEGIN:VEVENT
DTSTART;TZID=America/Los_Angeles:20250709T140000
DTEND;TZID=America/Los_Angeles:20250709T170000
DTSTAMP:20260422T213741
CREATED:20250629T200018Z
LAST-MODIFIED:20250629T210818Z
UID:19925-1752069600-1752080400@childadvocatescc.org
SUMMARY:CCCA Office Closure
DESCRIPTION:The CCCA Office will close at 1:30pm on July 09\, 2025. We will resume business at 9:00 am on July 10\, 2025. \nThank you.
URL:https://childadvocatescc.org/calendar/ccca-office-closure/
CATEGORIES:Office Closed
ATTACH;FMTTYPE=image/png:https://childadvocatescc.org/wp-content/uploads/2025/06/Screenshot-2025-06-29-125830.png
END:VEVENT
BEGIN:VEVENT
DTSTART;VALUE=DATE:20250704
DTEND;VALUE=DATE:20250705
DTSTAMP:20260422T213741
CREATED:20250629T195234Z
LAST-MODIFIED:20250629T201518Z
UID:19921-1751587200-1751673599@childadvocatescc.org
SUMMARY:CCCA OFFICE IS CLOSED July 04\, 2025
DESCRIPTION:The CCCA office will be closed July 04\, 2025. We will resume business as usual on Monday\, July 07\, 2025\, at 9:00am. \nThank you.
URL:https://childadvocatescc.org/calendar/ccca-office-is-closed-july-04-2025/
CATEGORIES:Office Closed
ATTACH;FMTTYPE=image/png:https://childadvocatescc.org/wp-content/uploads/2024/07/z-Screenshot-2024-07-24-214057.png
END:VEVENT
END:VCALENDAR