BEGIN:VCALENDAR
VERSION:2.0
PRODID:-//Cowlitz and Clark County Child Advocates - ECPv6.15.20//NONSGML v1.0//EN
CALSCALE:GREGORIAN
METHOD:PUBLISH
X-ORIGINAL-URL:https://childadvocatescc.org
X-WR-CALDESC:Events for Cowlitz and Clark County Child Advocates
REFRESH-INTERVAL;VALUE=DURATION:PT1H
X-Robots-Tag:noindex
X-PUBLISHED-TTL:PT1H
BEGIN:VTIMEZONE
TZID:America/Los_Angeles
BEGIN:DAYLIGHT
TZOFFSETFROM:-0800
TZOFFSETTO:-0700
TZNAME:PDT
DTSTART:20250309T100000
END:DAYLIGHT
BEGIN:STANDARD
TZOFFSETFROM:-0700
TZOFFSETTO:-0800
TZNAME:PST
DTSTART:20251102T090000
END:STANDARD
BEGIN:DAYLIGHT
TZOFFSETFROM:-0800
TZOFFSETTO:-0700
TZNAME:PDT
DTSTART:20260308T100000
END:DAYLIGHT
BEGIN:STANDARD
TZOFFSETFROM:-0700
TZOFFSETTO:-0800
TZNAME:PST
DTSTART:20261101T090000
END:STANDARD
BEGIN:DAYLIGHT
TZOFFSETFROM:-0800
TZOFFSETTO:-0700
TZNAME:PDT
DTSTART:20270314T100000
END:DAYLIGHT
BEGIN:STANDARD
TZOFFSETFROM:-0700
TZOFFSETTO:-0800
TZNAME:PST
DTSTART:20271107T090000
END:STANDARD
END:VTIMEZONE
BEGIN:VEVENT
DTSTART;VALUE=DATE:20260501
DTEND;VALUE=DATE:20260502
DTSTAMP:20260423T004421
CREATED:20260408T153935Z
LAST-MODIFIED:20260408T154106Z
UID:20203-1777593600-1777679999@childadvocatescc.org
SUMMARY:Book Club: The Round House by Louise Erdrich Discussion Dates TBA
DESCRIPTION:Set on an Ojibwe reservation in North Dakota\, this fictional tale tells the story of 13-year-old Joe Coutts tells the story of his quest for justice after his mother is brutally assaulted\, exploring themes of family\, culture\, and the legal complexities of crimes on reservations through a coming-of-age lens. It blends a suspenseful crime narrative with rich cultural detail\, including elements of Ojibwe belief and tradition. \nDiscussion dates will be shared in the May newsletter.
URL:https://childadvocatescc.org/calendar/book-club-the-round-house-by-louise-erdrich-discussion-dates-tba/
CATEGORIES:Professional Development
ATTACH;FMTTYPE=image/png:https://childadvocatescc.org/wp-content/uploads/2026/04/Screenshot-2026-04-08-084010.png
END:VEVENT
END:VCALENDAR