BEGIN:VCALENDAR
VERSION:2.0
PRODID:-//Cowlitz and Clark County Child Advocates - ECPv6.15.20//NONSGML v1.0//EN
CALSCALE:GREGORIAN
METHOD:PUBLISH
X-ORIGINAL-URL:https://childadvocatescc.org
X-WR-CALDESC:Events for Cowlitz and Clark County Child Advocates
REFRESH-INTERVAL;VALUE=DURATION:PT1H
X-Robots-Tag:noindex
X-PUBLISHED-TTL:PT1H
BEGIN:VTIMEZONE
TZID:America/Los_Angeles
BEGIN:DAYLIGHT
TZOFFSETFROM:-0800
TZOFFSETTO:-0700
TZNAME:PDT
DTSTART:20250309T100000
END:DAYLIGHT
BEGIN:STANDARD
TZOFFSETFROM:-0700
TZOFFSETTO:-0800
TZNAME:PST
DTSTART:20251102T090000
END:STANDARD
BEGIN:DAYLIGHT
TZOFFSETFROM:-0800
TZOFFSETTO:-0700
TZNAME:PDT
DTSTART:20260308T100000
END:DAYLIGHT
BEGIN:STANDARD
TZOFFSETFROM:-0700
TZOFFSETTO:-0800
TZNAME:PST
DTSTART:20261101T090000
END:STANDARD
BEGIN:DAYLIGHT
TZOFFSETFROM:-0800
TZOFFSETTO:-0700
TZNAME:PDT
DTSTART:20270314T100000
END:DAYLIGHT
BEGIN:STANDARD
TZOFFSETFROM:-0700
TZOFFSETTO:-0800
TZNAME:PST
DTSTART:20271107T090000
END:STANDARD
END:VTIMEZONE
BEGIN:VEVENT
DTSTART;VALUE=DATE:20260406
DTEND;VALUE=DATE:20260407
DTSTAMP:20260425T031815
CREATED:20260106T222408Z
LAST-MODIFIED:20260106T222528Z
UID:20035-1775433600-1775519999@childadvocatescc.org
SUMMARY:CCCA 2026 Spring Volunteer Guardian ad Litem Training – Virtual
DESCRIPTION:starts April 06\, 2026\, ends April 30\, 2026 \nMonday – Thursday 10:00 am -12:00 pm or \nMonday – Thursday 5:30 pm -7:30 pm
URL:https://childadvocatescc.org/calendar/ccca-2026-spring-volunteer-guardian-ad-litem-training-virtual/
CATEGORIES:Professional Development
END:VEVENT
END:VCALENDAR